Workbook

Sheet Спецификация 
B2: Лосьон с пионином STM-Materials Контактный телефон: +7 905 952-75-00 Почта: info@stm-materials.ru Сайт: https://stm-materials.ru ТГК: https://t.me/stm_materials
B4: Масса фасовки, гр | C4: 100
B5: Объем партии, шт | C5: 1
B6: Заказчик | C6: STM-Materials
B7: Наименование продукции | C7: Лосьон для проблемной кожи с пионином
B9: Состав | C9: Содержание, % | D9: Закладка, гр
A10: 1 | B10: Вода | C10: =100-SUM(C11:C25) -> 92.69 | D10: =C4*C5*C10/100 -> 92.69
A11: 1 | B11: Бутиленгликоль | C11: 0.5 | D11: =C4*C5*C11/100 -> 0.5
A12: 1 | B12: Декспантенол | C12: 0.5 | D12: =C4*C5*C12/100 -> 0.5
A13: 1 | B13: Глицерин | C13: 1 | D13: =C4*C5*C13/100 -> 1
A14: 1 | B14: Кватерниум-73/Пионин – раствор 1000 ppm | C14: 3 | D14: =C4*C5*C14/100 -> 3
A15: 1 | B15: Алоэ вера 10:1 гель | C15: 1 | D15: =C4*C5*C15/100 -> 1
A16: 1 | B16: Трилон Б (ЭДТА) | C16: 0.1 | D16: =C4*C5*C16/100 -> 0.1
A17: 1 | B17: Натрий метилпарабен | C17: 0.25 | D17: =C4*C5*C17/100 -> 0.25
A18: 2 | B18: Лецитин соевый | C18: 0.2 | D18: =C4*C5*C18/100 -> 0.2
A19: 3 | B19: ПЭГ-40 гидрогенизированное касторовое масло | C19: 0.7 | D19: =C4*C5*C19/100 -> 0.7
A20: 3 | B20: Отдушка зеленый чай | C20: 0.05 | D20: =C4*C5*C20/100 -> 0.05
A21: 4 | B21: Лимонная кислота | C21: 0.01 | D21: =C4*C5*C21/100 -> 0.01
D22: =C4*C5*C22/100 -> 0
D23: =C4*C5*C23/100 -> 0
D24: =C4*C5*C24/100 -> 0
D25: =C4*C5*C25/100 -> 0
D26: =C4*C5*C26/100 -> 0
D27: =C4*C5*C27/100 -> 0
D28: =C4*C5*C28/100 -> 0
D29: =C4*C5*C29/100 -> 0
D30: =C4*C5*C30/100 -> 0
D31: =C4*C5*C31/100 -> 0
D32: =C4*C5*C32/100 -> 0
D33: =C4*C5*C33/100 -> 0
D34: =C4*C5*C34/100 -> 0
D35: =C4*C5*C35/100 -> 0
D36: =C4*C5*C36/100 -> 0
D37: =C4*C5*C37/100 -> 0
A38: Методика: В воду внести компоненты №1, тщетально перемешать до полного растворения 10 минут. Внести компонент №2. Перемешать 10-15 минут. В отдельной таре смешать компоненты №3 , нагреть до растворения. Внести в общую массу на средних оборотах. Перемешивать 15 минут. Компонентом №4 довести рН=5-5,5
B40: Водородный показатель рН готового продукта | C40: 5-5,5
B41: Рецептура проверена, соответствует требованиям ТР ТС 009/2011
B42: Разработчик
C43: подпись | D43: фамилия, инициалы

Sheet Себестоимость 
B3: Состав сырья | C3: Содержание, в % | D3: расход на 10 кг (+10% потерь)/кг | E3: ст-ть сырья/кг | F3: ст-ть сырья/кг (+20% логистика) | G3: расход, руб. | H3: Вклад в СЕ, % | I3: выделенное красным не заполнять | K3: зеленым выделен результат
B4: ='Спецификация '!B10 -> Вода | C4: ='Спецификация '!C10 -> 92.69 | D4: =10*C4*1.1/100 -> 10.1959 | F4: =E4*1.2 -> 0 | G4: =D4*F4 -> 0 | H4: =G4/SUM(G4:G36)*100% -> #REF!
B5: ='Спецификация '!B11 -> Бутиленгликоль | C5: ='Спецификация '!C11 -> 0.5 | D5: =10*C5*1.1/100 -> 0.055 | E5: 850 | F5: =E5*1.2 -> 1020 | G5: =D5*F5 -> 56.1 | H5: =G5/SUM(G4:G36)*100% -> #REF!
B6: ='Спецификация '!B12 -> Декспантенол | C6: ='Спецификация '!C12 -> 0.5 | D6: =10*C6*1.1/100 -> 0.055 | E6: 1500 | F6: =E6*1.2 -> 1800 | G6: =D6*F6 -> 99 | H6: =G6/SUM(G4:G36)*100% -> #REF!
B7: ='Спецификация '!B13 -> Глицерин | C7: ='Спецификация '!C13 -> 1 | D7: =10*C7*1.1/100 -> 0.11 | E7: 160 | F7: =E7*1.2 -> 192 | G7: =D7*F7 -> 21.12 | H7: =G7/SUM(G4:G36)*100% -> #REF!
B8: ='Спецификация '!#REF! -> #REF! | C8: ='Спецификация '!#REF! -> #REF! | D8: =10*C8*1.1/100 -> #REF! | E8: 180 | F8: =E8*1.2 -> 216 | G8: =D8*F8 -> #REF! | H8: =G8/SUM(G4:G36)*100% -> #REF!
B9: ='Спецификация '!#REF! -> #REF! | C9: ='Спецификация '!#REF! -> #REF! | D9: =10*C9*1.1/100 -> #REF! | E9: 950 | F9: =E9*1.2 -> 1140 | G9: =D9*F9 -> #REF! | H9: =G9/SUM(G4:G36)*100% -> #REF!
B10: ='Спецификация '!B14 -> Кватерниум-73/Пионин – раствор 1000 ppm | C10: ='Спецификация '!C14 -> 3 | D10: =10*C10*1.1/100 -> 0.33 | E10: 5110 | F10: =E10*1.2 -> 6132 | G10: =D10*F10 -> 2023.56 | H10: =G10/SUM(G4:G36)*100% -> #REF!
B11: ='Спецификация '!#REF! -> #REF! | C11: ='Спецификация '!#REF! -> #REF! | D11: =10*C11*1.1/100 -> #REF! | E11: 900 | F11: =E11*1.2 -> 1080 | G11: =D11*F11 -> #REF! | H11: =G11/SUM(G4:G36)*100% -> #REF!
B12: ='Спецификация '!B15 -> Алоэ вера 10:1 гель | C12: ='Спецификация '!C15 -> 1 | D12: =10*C12*1.1/100 -> 0.11 | E12: 1000 | F12: =E12*1.2 -> 1200 | G12: =D12*F12 -> 132 | H12: =G12/SUM(G4:G36)*100% -> #REF!
B13: ='Спецификация '!B16 -> Трилон Б (ЭДТА) | C13: ='Спецификация '!C16 -> 0.1 | D13: =10*C13*1.1/100 -> 0.011 | E13: 400 | F13: =E13*1.2 -> 480 | G13: =D13*F13 -> 5.28 | H13: =G13/SUM(G4:G36)*100% -> #REF!
B14: ='Спецификация '!#REF! -> #REF! | C14: ='Спецификация '!#REF! -> #REF! | D14: =10*C14*1.1/100 -> #REF! | E14: 4200 | F14: =E14*1.2 -> 5040 | G14: =D14*F14 -> #REF! | H14: =G14/SUM(G4:G36)*100% -> #REF!
B15: ='Спецификация '!B17 -> Натрий метилпарабен | C15: ='Спецификация '!C17 -> 0.25 | D15: =10*C15*1.1/100 -> 0.0275 | E15: 1300 | F15: =E15*1.2 -> 1560 | G15: =D15*F15 -> 42.9 | H15: =G15/SUM(G4:G36)*100% -> #REF!
B16: ='Спецификация '!B18 -> Лецитин соевый | C16: ='Спецификация '!C18 -> 0.2 | D16: =10*C16*1.1/100 -> 0.022 | E16: 400 | F16: =E16*1.2 -> 480 | G16: =D16*F16 -> 10.56 | H16: =G16/SUM(G4:G36)*100% -> #REF!
B17: ='Спецификация '!B19 -> ПЭГ-40 гидрогенизированное касторовое масло | C17: ='Спецификация '!C19 -> 0.7 | D17: =10*C17*1.1/100 -> 0.077 | E17: 320 | F17: =E17*1.2 -> 384 | G17: =D17*F17 -> 29.568 | H17: =G17/SUM(G4:G36)*100% -> #REF!
B18: ='Спецификация '!B20 -> Отдушка зеленый чай | C18: ='Спецификация '!C20 -> 0.05 | D18: =10*C18*1.1/100 -> 0.0055 | E18: 4035 | F18: =E18*1.2 -> 4842 | G18: =D18*F18 -> 26.631 | H18: =G18/SUM(G4:G36)*100% -> #REF!
B19: ='Спецификация '!B21 -> Лимонная кислота | C19: ='Спецификация '!C21 -> 0.01 | D19: =10*C19*1.1/100 -> 0.0011 | E19: 18800 | F19: =E19*1.2 -> 22560 | G19: =D19*F19 -> 24.816 | H19: =G19/SUM(G4:G36)*100% -> #REF!
B20: ='Спецификация '!B22 -> 0 | C20: ='Спецификация '!C22 -> 0 | D20: =10*C20*1.1/100 -> 0 | F20: =E20*1.2 -> 0 | G20: =D20*F20 -> 0 | H20: =G20/SUM(G4:G36)*100% -> #REF!
B21: ='Спецификация '!B23 -> 0 | C21: ='Спецификация '!C23 -> 0 | D21: =10*C21*1.1/100 -> 0 | F21: =E21*1.2 -> 0 | G21: =D21*F21 -> 0 | H21: =G21/SUM(G4:G36)*100% -> #REF!
B22: ='Спецификация '!B24 -> 0 | C22: ='Спецификация '!C24 -> 0 | D22: =10*C22*1.1/100 -> 0 | F22: =E22*1.2 -> 0 | G22: =D22*F22 -> 0 | H22: =G22/SUM(G4:G36)*100% -> #REF!
B23: ='Спецификация '!B25 -> 0 | C23: ='Спецификация '!C25 -> 0 | D23: =10*C23*1.1/100 -> 0 | F23: =E23*1.2 -> 0 | G23: =D23*F23 -> 0 | H23: =G23/SUM(G4:G36)*100% -> #REF!
B24: ='Спецификация '!B26 -> 0 | C24: ='Спецификация '!C26 -> 0 | D24: =10*C24*1.1/100 -> 0 | F24: =E24*1.2 -> 0 | G24: =D24*F24 -> 0 | H24: =G24/SUM(G4:G36)*100% -> #REF!
B25: ='Спецификация '!B27 -> 0 | C25: ='Спецификация '!C27 -> 0 | D25: =10*C25*1.1/100 -> 0 | F25: =E25*1.2 -> 0 | G25: =D25*F25 -> 0 | H25: =G25/SUM(G4:G36)*100% -> #REF!
B26: ='Спецификация '!B28 -> 0 | C26: ='Спецификация '!C28 -> 0 | D26: =10*C26*1.1/100 -> 0 | F26: =E26*1.2 -> 0 | G26: =D26*F26 -> 0 | H26: =G26/SUM(G4:G36)*100% -> #REF!
B27: ='Спецификация '!B29 -> 0 | C27: ='Спецификация '!C29 -> 0 | D27: =10*C27*1.1/100 -> 0 | F27: =E27*1.2 -> 0 | G27: =D27*F27 -> 0 | H27: =G27/SUM(G4:G36)*100% -> #REF!
B28: ='Спецификация '!B30 -> 0 | C28: ='Спецификация '!C30 -> 0 | D28: =10*C28*1.1/100 -> 0 | F28: =E28*1.2 -> 0 | G28: =D28*F28 -> 0 | H28: =G28/SUM(G4:G36)*100% -> #REF!
B29: ='Спецификация '!B31 -> 0 | C29: ='Спецификация '!C31 -> 0 | D29: =10*C29*1.1/100 -> 0 | F29: =E29*1.2 -> 0 | G29: =D29*F29 -> 0 | H29: =G29/SUM(G4:G36)*100% -> #REF!
B30: ='Спецификация '!B32 -> 0 | C30: ='Спецификация '!C32 -> 0 | D30: =10*C30*1.1/100 -> 0 | F30: =E30*1.2 -> 0 | G30: =D30*F30 -> 0 | H30: =G30/SUM(G4:G36)*100% -> #REF!
B31: ='Спецификация '!B33 -> 0 | C31: ='Спецификация '!C33 -> 0 | D31: =10*C31*1.1/100 -> 0 | F31: =E31*1.2 -> 0 | G31: =D31*F31 -> 0 | H31: =G31/SUM(G4:G36)*100% -> #REF!
B32: ='Спецификация '!B34 -> 0 | C32: ='Спецификация '!C34 -> 0 | D32: =10*C32*1.1/100 -> 0 | F32: =E32*1.2 -> 0 | G32: =D32*F32 -> 0 | H32: =G32/SUM(G4:G36)*100% -> #REF!
B33: ='Спецификация '!B35 -> 0 | C33: ='Спецификация '!C35 -> 0 | D33: =10*C33*1.1/100 -> 0 | F33: =E33*1.2 -> 0 | G33: =D33*F33 -> 0 | H33: =G33/SUM(G4:G36)*100% -> #REF!
B34: ='Спецификация '!B36 -> 0 | C34: ='Спецификация '!C36 -> 0 | D34: =10*C34*1.1/100 -> 0 | F34: =E34*1.2 -> 0 | G34: =D34*F34 -> 0 | H34: =G34/SUM(G4:G36)*100% -> #REF!
B35: ='Спецификация '!B37 -> 0 | C35: ='Спецификация '!C37 -> 0 | D35: =10*C35*1.1/100 -> 0 | F35: =E35*1.2 -> 0 | G35: =D35*F35 -> 0 | H35: =G35/SUM(G4:G36)*100% -> #REF!
B36: ='Спецификация '!B38 -> 0 | C36: ='Спецификация '!C38 -> 0 | D36: =10*C36*1.1/100 -> 0 | F36: =E36*1.2 -> 0 | G36: =D36*F36 -> 0 | H36: =G36/SUM(G4:G36)*100% -> #REF!
B37: ОБЬЕМ, МЛ (ГР) | C37: ='Спецификация '!C4 -> 100
B40: СЕ 1 кг для клиента | C40: =SUM(G4:G36)*1.7/10 -> #REF!
B41: СЕ 1 единицы по сырью для клиента | C41: =C40*C37/1000 -> #REF!
B42: СЕ 1 кг (при заказе от 200 кг) | C42: =SUM(G4:G36)*1.4/10 -> #REF!
B43: СЕ 1 единицы (при заказе от 200 кг) | C43: =C42*C37/1000 -> #REF!
